BEGIN:VCALENDAR
VERSION:2.0
PRODID:-//German Beer Consumers Union - ECPv6.15.20//NONSGML v1.0//EN
CALSCALE:GREGORIAN
METHOD:PUBLISH
X-WR-CALNAME:German Beer Consumers Union
X-ORIGINAL-URL:https://gbcu.de
X-WR-CALDESC:Veranstaltungen für German Beer Consumers Union
REFRESH-INTERVAL;VALUE=DURATION:PT1H
X-Robots-Tag:noindex
X-PUBLISHED-TTL:PT1H
BEGIN:VTIMEZONE
TZID:UTC
BEGIN:STANDARD
TZOFFSETFROM:+0000
TZOFFSETTO:+0000
TZNAME:UTC
DTSTART:20250101T000000
END:STANDARD
END:VTIMEZONE
BEGIN:VEVENT
DTSTART;VALUE=DATE:20260625
DTEND;VALUE=DATE:20260628
DTSTAMP:20260422T094827
CREATED:20260410T154726Z
LAST-MODIFIED:20260410T155222Z
UID:1158-1782345600-1782604799@gbcu.de
SUMMARY:24uurs van Maastricht 2026: Das ultimative Bierfestival
DESCRIPTION:24uurs van Maastricht 2026: Das ultimative Bierfestival\nDie Beer Association PINT Region Limburg präsentiert in Kooperation mit Boels Rental die „24uurs van Maastricht 2026“. Wir feiern unser 12-jähriges Jubiläum mit noch mehr Platz für Genuss! \nDas Programm im Überblick\n\nDonnerstag\, 25. Juni 2026: Limburgischer Brauereitag mit über 20 regionalen Brauereien.\nFreitag\, 26. & Samstag\, 27. Juni 2026: Internationale Vielfalt mit über 60 Brauereien weltweit.\n\nHighlights & Location\nNeben exzellenten Bieren erwarten euch Food-Stände\, Masterclasses und Brauereibesichtigungen in der historischen Kulisse von Maastricht (Helpoort\, D’n Hiemel). \n\nWichtige Informationen & Öffnungszeiten\nOrt: Bernardusstraat 24A\, 6211 HL Maastricht \n\n\n\nTag\nUhrzeit\nEintritt*\n\n\n\n\nDo\, 25. Juni\n16:00 – 23:00\n10\,00 €\n\n\nFr\, 26. Juni\n14:00 – 00:00\n10\,00 €\n\n\nSa\, 27. Juni\n12:00 – 00:00\n10\,00 €\n\n\n\n*Inkl. 4\,00 € Glaspfand. Kasse schließt 30 Min. vor Ende. \n\nInfos & Tickets: www.pint-limburg.nl
URL:https://gbcu.de/event/24uurs-van-maastricht-2026-das-ultimative-bierfestival/
END:VEVENT
BEGIN:VEVENT
DTSTART;VALUE=DATE:20260903
DTEND;VALUE=DATE:20260907
DTSTAMP:20260422T094827
CREATED:20250903T054827Z
LAST-MODIFIED:20250903T054858Z
UID:1001-1788393600-1788739199@gbcu.de
SUMMARY:Exkursion ins Hopfenland Spalt – 3. bis 6. September 2026
DESCRIPTION:Die GBCU lädt zu einer besonderen Reise ins Herz der fränkischen Hopfenregion ein. \nAuf dem Programm stehen:\n1. Hopfenernte am Ermer-Hof – selbst mit anpacken und die frischen Dolden erleben\n2. Führung durch die Hopfenverwertungsgenossenschaft HVG\n3. Erlebniswelt HopfenBierGut mit Bierempfang und Brauereigeschichte\n4. Spalter BierWerkstatt: Bier & Food-Pairing mit den Biersommeliers\n5. Besuch der Stadtbrauerei Spalt inklusive Weißwurstfrühstück & Verkostung\n6. Teilnahme am HopfenZupferFest mit Krönung der Hopfenkönigin\, Wettbewerb & Musik \nTeilnahmegebühr: 250 € pro Person / 200 € für Mitglieder\n(einige optionale Programmpunkte sind nicht enthalten) \n📅 Termin: Donnerstag\, 03.09.2026 bis Sonntag\, 06.09.2026\n📍 Ort: Spalt\, Mittelfranken \nEin Wochenende voller Tradition\, Genuss und Hopfenkultur – jetzt anmelden und Platz sichern!
URL:https://gbcu.de/event/exkursion-ins-hopfenland-spalt-3-bis-6-september-2026/
ORGANIZER;CN="GBCU":MAILTO:info@gbcu.de
END:VEVENT
END:VCALENDAR